BEGIN:VCALENDAR
VERSION:2.0
PRODID:-//Hrabovak - ECPv6.15.20//NONSGML v1.0//EN
CALSCALE:GREGORIAN
METHOD:PUBLISH
X-WR-CALNAME:Hrabovak
X-ORIGINAL-URL:https://hrabovak.cz
X-WR-CALDESC:Akce na Hrabovak
REFRESH-INTERVAL;VALUE=DURATION:PT1H
X-Robots-Tag:noindex
X-PUBLISHED-TTL:PT1H
BEGIN:VTIMEZONE
TZID:Europe/Prague
BEGIN:DAYLIGHT
TZOFFSETFROM:+0100
TZOFFSETTO:+0200
TZNAME:CEST
DTSTART:20240331T010000
END:DAYLIGHT
BEGIN:STANDARD
TZOFFSETFROM:+0200
TZOFFSETTO:+0100
TZNAME:CET
DTSTART:20241027T010000
END:STANDARD
BEGIN:DAYLIGHT
TZOFFSETFROM:+0100
TZOFFSETTO:+0200
TZNAME:CEST
DTSTART:20250330T010000
END:DAYLIGHT
BEGIN:STANDARD
TZOFFSETFROM:+0200
TZOFFSETTO:+0100
TZNAME:CET
DTSTART:20251026T010000
END:STANDARD
BEGIN:DAYLIGHT
TZOFFSETFROM:+0100
TZOFFSETTO:+0200
TZNAME:CEST
DTSTART:20260329T010000
END:DAYLIGHT
BEGIN:STANDARD
TZOFFSETFROM:+0200
TZOFFSETTO:+0100
TZNAME:CET
DTSTART:20261025T010000
END:STANDARD
END:VTIMEZONE
BEGIN:VEVENT
DTSTART;TZID=Europe/Prague:20250524T123000
DTEND;TZID=Europe/Prague:20250524T220000
DTSTAMP:20260423T005706
CREATED:20250505T181238Z
LAST-MODIFIED:20250505T181251Z
UID:1047-1748089800-1748124000@hrabovak.cz
SUMMARY:Memoriál O hůlku Bohumila Hanče a Václava Vrbaty
DESCRIPTION:Klub hrabovských alkoholiků pořádá jubilejní 102. ročník memoriálu O hůlku Bohumila Hanče a Václava Vrbaty. Akce se uskuteční 24. května 2025 v Ostravě-Hrabové na šídloveckém náměstí. Start závodu je naplánován na 12.29 hodin\, dále bude následovat doprovodný program. V hudebním bloku se od 13.29 hodin postupně představí Prokerr\, A šmytec\, Jakost a Bagoy z Paskova\, který začne hrát v 17.59 hodin. \nSamozřejmostí je bohaté občerstvení. Pro návštěvníky budou rovněž připraveny mobilní toalety. Registrace závodníků probíhá již nyní na oficiální webu KHA www.kha-hrabova.cz nebo v den závodu při akreditaci (od 11 hodin). Registrační poplatek pro závodníky činí 100 korun\, vstupné na akci je dobrovolné. Bližší informace lze získat na webu KHA. \n 
URL:https://hrabovak.cz/event/memorial-o-hulku-bohumila-hance-a-vaclava-vrbaty/
LOCATION:Šídlovec
CATEGORIES:Memoriál O hůlku B. Hanče a V. Vrbaty
ATTACH;FMTTYPE=image/jpeg:https://hrabovak.cz/wp-content/uploads/2025/05/pozvanka-memorial-hance-a-vrbaty-2025.jpg
END:VEVENT
END:VCALENDAR