BEGIN:VCALENDAR
VERSION:2.0
PRODID:-//Hrabovak - ECPv6.15.20//NONSGML v1.0//EN
CALSCALE:GREGORIAN
METHOD:PUBLISH
X-ORIGINAL-URL:https://hrabovak.cz
X-WR-CALDESC:Akce na Hrabovak
REFRESH-INTERVAL;VALUE=DURATION:PT1H
X-Robots-Tag:noindex
X-PUBLISHED-TTL:PT1H
BEGIN:VTIMEZONE
TZID:Europe/Prague
BEGIN:DAYLIGHT
TZOFFSETFROM:+0100
TZOFFSETTO:+0200
TZNAME:CEST
DTSTART:20250330T010000
END:DAYLIGHT
BEGIN:STANDARD
TZOFFSETFROM:+0200
TZOFFSETTO:+0100
TZNAME:CET
DTSTART:20251026T010000
END:STANDARD
BEGIN:DAYLIGHT
TZOFFSETFROM:+0100
TZOFFSETTO:+0200
TZNAME:CEST
DTSTART:20260329T010000
END:DAYLIGHT
BEGIN:STANDARD
TZOFFSETFROM:+0200
TZOFFSETTO:+0100
TZNAME:CET
DTSTART:20261025T010000
END:STANDARD
BEGIN:DAYLIGHT
TZOFFSETFROM:+0100
TZOFFSETTO:+0200
TZNAME:CEST
DTSTART:20270328T010000
END:DAYLIGHT
BEGIN:STANDARD
TZOFFSETFROM:+0200
TZOFFSETTO:+0100
TZNAME:CET
DTSTART:20271031T010000
END:STANDARD
END:VTIMEZONE
BEGIN:VEVENT
DTSTART;VALUE=DATE:20260407
DTEND;VALUE=DATE:20260530
DTSTAMP:20260422T171322
CREATED:20260325T125034Z
LAST-MODIFIED:20260325T125034Z
UID:1457-1775520000-1780099199@hrabovak.cz
SUMMARY:Knihovna: Sdílíme zelenou – swap pokojovek
DESCRIPTION:Oživte svůj domov novou zelení!\nMáte přebytky pokojovek\, řízky navíc nebo květiny\, které hledají nový domov? Přijďte do knihovny na květinový swap – místo\, kde můžete přinést\, vyměnit nebo si odnést rostlinku\, která vám padne do oka.\nStačí jedna jediná rostlinka… a můžete odejít s úplně jinou.\n7.4.–29. 5. 2026 během půjčování
URL:https://hrabovak.cz/event/knihovna-sdilime-zelenou-swap-pokojovek-2/
LOCATION:Knihovna města Ostravy\, pobočka Hrabová\, Paskovská 664\, Ostrava\, 72000
CATEGORIES:Knihovna
ATTACH;FMTTYPE=image/jpeg:https://hrabovak.cz/wp-content/uploads/2026/03/Plakat_A4_Hrabova_SdilimeZelenouSwapPokojovek_4_5_26_web-1.jpg
END:VEVENT
BEGIN:VEVENT
DTSTART;VALUE=DATE:20260420
DTEND;VALUE=DATE:20260425
DTSTAMP:20260422T171322
CREATED:20260422T095430Z
LAST-MODIFIED:20260422T095430Z
UID:1514-1776643200-1777075199@hrabovak.cz
SUMMARY:Den Země v knihovně: Kvíz pro děti
DESCRIPTION:Až do 24. dubna 2026 si můžete otestovat v průběhu výpůjční doby své znalosti. Hrabovská pobočka Knihovny města Ostravy si připravila Kvíz pro děti o naší planetě a ochraně přírody.
URL:https://hrabovak.cz/event/den-zeme-v-knihovne-kviz-pro-deti/
LOCATION:Knihovna města Ostravy\, pobočka Hrabová\, Paskovská 664\, Ostrava\, 72000
CATEGORIES:Knihovna,Kvíz / soutěž
ATTACH;FMTTYPE=image/png:https://hrabovak.cz/wp-content/uploads/2026/04/letak-DEN-ZEME-2026.png
END:VEVENT
BEGIN:VEVENT
DTSTART;TZID=Europe/Prague:20260423T140000
DTEND;TZID=Europe/Prague:20260423T170000
DTSTAMP:20260422T171322
CREATED:20260325T125442Z
LAST-MODIFIED:20260325T130425Z
UID:1463-1776952800-1776963600@hrabovak.cz
SUMMARY:Knihovna: S taškou do světa
DESCRIPTION:Tvůrčí dílna. Vytvoř si jedinečnou tašku (nejen) na knížky\, inspirovanou naší rozmanitou Zemí.\nčtvrtek 23.4.2026\, 14.00–17.00 h.
URL:https://hrabovak.cz/event/knihovna-s-taskou-do-sveta/
LOCATION:Knihovna města Ostravy\, pobočka Hrabová\, Paskovská 664\, Ostrava\, 72000
CATEGORIES:Beseda / přednáška / workshop,Knihovna
ATTACH;FMTTYPE=image/png:https://hrabovak.cz/wp-content/uploads/2026/03/letak-S-TASKOU-DO-SVETA-DZ-2026.png
END:VEVENT
BEGIN:VEVENT
DTSTART;TZID=Europe/Prague:20260507T100000
DTEND;TZID=Europe/Prague:20260507T110000
DTSTAMP:20260422T171322
CREATED:20260422T083927Z
LAST-MODIFIED:20260422T084020Z
UID:1502-1778148000-1778151600@hrabovak.cz
SUMMARY:Klub Šidélko: Hrajeme si s barvami
DESCRIPTION:Pozvánka do hrabovské pobočky Knihovny města Ostravy: Klub Šidélko: Hrajeme si s barvami (Klub pro nejmenší děti a jejich rodiče). \nNa tomto setkání se zaměříme na barvy\, jejich pojmenování a vnímání prostřednictvím knížek\, her a drobných pohybových aktivit. \nčtvrtek 7. 5. 2026 v 10.00 h. (0–3 let) \nNa tuto akci je nutná rezervace předem. \n 
URL:https://hrabovak.cz/event/klub-sidelko-hrajeme-si-s-barvami/
LOCATION:Knihovna města Ostravy\, pobočka Hrabová\, Paskovská 664\, Ostrava\, 72000
CATEGORIES:klub Šidélko,Knihovna
ATTACH;FMTTYPE=image/png:https://hrabovak.cz/wp-content/uploads/2026/04/letak-Sidelko-KVETEN-2026.png
END:VEVENT
BEGIN:VEVENT
DTSTART;TZID=Europe/Prague:20260512T163000
DTEND;TZID=Europe/Prague:20260512T180000
DTSTAMP:20260422T171322
CREATED:20260422T093309Z
LAST-MODIFIED:20260422T093309Z
UID:1508-1778603400-1778608800@hrabovak.cz
SUMMARY:Přednáška v knihovně: Nepál na vlastní pěst
DESCRIPTION:Srdečně vás zveme na cestovatelskou přednášku Míši a Vojty Petříkových o cestě do Nepálu. \nÚterý 12. 5. 2026\, 16.30–18.00 h. \nSvou cestu podnikli na vlastní pěst bez jakýchkoliv cestovek či průvodců a díky tomu zažili i to\, na co původně vůbec nepomysleli. Během přednášky se přeneseme na několik zcela odlišných míst od rušných měst k himalájským vrškům na treku kolem Annapuren přes čajovou nepálskou zahradu až na safari na jihu Nepálu.
URL:https://hrabovak.cz/event/prednaska-v-knihovne-nepal-na-vlastni-pest/
LOCATION:Knihovna města Ostravy\, pobočka Hrabová\, Paskovská 664\, Ostrava\, 72000
CATEGORIES:Beseda / přednáška / workshop,Knihovna
ATTACH;FMTTYPE=image/jpeg:https://hrabovak.cz/wp-content/uploads/2026/04/Plakat_A4_Hrabova_NepalNaVlastniPest_5_26_web.jpg
END:VEVENT
BEGIN:VEVENT
DTSTART;TZID=Europe/Prague:20260521T100000
DTEND;TZID=Europe/Prague:20260521T110000
DTSTAMP:20260422T171322
CREATED:20260422T094036Z
LAST-MODIFIED:20260422T094036Z
UID:1511-1779357600-1779361200@hrabovak.cz
SUMMARY:Knihovna: Klub Generace
DESCRIPTION:Hrabovská pobočka Knihovny města Ostravy zve do klubu Generace. Téma: Ženy\, které píšou dnešek (Setkání klubu Generace). \nO současných českých autorkách s Pavlínou Dobiášovou a Laurou Vrublovou. V přátelské atmosféře představí díla Nadi Horákové\, Petry Dvořákové nebo Petry Klabouchové. \n  \n 
URL:https://hrabovak.cz/event/knihovna-klub-generace-3/
LOCATION:Knihovna města Ostravy\, pobočka Hrabová\, Paskovská 664\, Ostrava\, 72000
CATEGORIES:klub Generace,Knihovna
ATTACH;FMTTYPE=image/png:https://hrabovak.cz/wp-content/uploads/2026/04/letak-Generace-KVETEN-2026.png
END:VEVENT
END:VCALENDAR