BEGIN:VCALENDAR
VERSION:2.0
PRODID:-//Hrabovak - ECPv6.15.20//NONSGML v1.0//EN
CALSCALE:GREGORIAN
METHOD:PUBLISH
X-ORIGINAL-URL:https://hrabovak.cz
X-WR-CALDESC:Akce na Hrabovak
REFRESH-INTERVAL;VALUE=DURATION:PT1H
X-Robots-Tag:noindex
X-PUBLISHED-TTL:PT1H
BEGIN:VTIMEZONE
TZID:Europe/Prague
BEGIN:DAYLIGHT
TZOFFSETFROM:+0100
TZOFFSETTO:+0200
TZNAME:CEST
DTSTART:20240331T010000
END:DAYLIGHT
BEGIN:STANDARD
TZOFFSETFROM:+0200
TZOFFSETTO:+0100
TZNAME:CET
DTSTART:20241027T010000
END:STANDARD
BEGIN:DAYLIGHT
TZOFFSETFROM:+0100
TZOFFSETTO:+0200
TZNAME:CEST
DTSTART:20250330T010000
END:DAYLIGHT
BEGIN:STANDARD
TZOFFSETFROM:+0200
TZOFFSETTO:+0100
TZNAME:CET
DTSTART:20251026T010000
END:STANDARD
BEGIN:DAYLIGHT
TZOFFSETFROM:+0100
TZOFFSETTO:+0200
TZNAME:CEST
DTSTART:20260329T010000
END:DAYLIGHT
BEGIN:STANDARD
TZOFFSETFROM:+0200
TZOFFSETTO:+0100
TZNAME:CET
DTSTART:20261025T010000
END:STANDARD
BEGIN:DAYLIGHT
TZOFFSETFROM:+0100
TZOFFSETTO:+0200
TZNAME:CEST
DTSTART:20270328T010000
END:DAYLIGHT
BEGIN:STANDARD
TZOFFSETFROM:+0200
TZOFFSETTO:+0100
TZNAME:CET
DTSTART:20271031T010000
END:STANDARD
END:VTIMEZONE
BEGIN:VEVENT
DTSTART;TZID=Europe/Prague:20260421T163000
DTEND;TZID=Europe/Prague:20260421T180000
DTSTAMP:20260422T194818
CREATED:20260325T125316Z
LAST-MODIFIED:20260325T125316Z
UID:1460-1776789000-1776794400@hrabovak.cz
SUMMARY:Knihovna: Azorské ostrovy – zelené srdce Atlantiku
DESCRIPTION:Vydejte se na cestu do jedné z nejkrásnějších a nejméně dotčených částí Evropy. Cestovatelská přednáška Radomíry Uhrové vás zavede na Azorské ostrovy – sopečné souostroví uprostřed Atlantiku\, kde se střídají dramatické útesy\, kráterová jezera\, termální prameny a bujná zeleň. Prostřednictvím fotografií a osobních zážitků poznáte místní přírodu\, kulturu i život na ostrovech\, které jsou rájem pro milovníky klidu\, turistiky a oceánu. Součástí večera bude také možnost zakoupit autorskou publikaci s množstvím fotek a praktickými tipy a radami pro plánování vlastní cesty na Azory. \núterý 21.4.2026\, 16.30–18.00 h.
URL:https://hrabovak.cz/event/knihovna-azorske-ostrovy-zelene-srdce-atlantiku/
LOCATION:Knihovna města Ostravy\, pobočka Hrabová\, Paskovská 664\, Ostrava\, 72000
CATEGORIES:Beseda / přednáška / workshop,Knihovna
ATTACH;FMTTYPE=image/jpeg:https://hrabovak.cz/wp-content/uploads/2026/03/Plakat_A4_Hrabova_besedaAzorskeOstrovy_4_26_web.jpg
END:VEVENT
BEGIN:VEVENT
DTSTART;TZID=Europe/Prague:20260407T160000
DTEND;TZID=Europe/Prague:20260407T173000
DTSTAMP:20260422T194818
CREATED:20260302T141752Z
LAST-MODIFIED:20260302T141752Z
UID:1388-1775577600-1775583000@hrabovak.cz
SUMMARY:Beseda: Reflexní terapie
DESCRIPTION:Městský obvod Hrabová a Kulturní komise Vás srdečně zvou na besedu Reflexní terapie s přednášejícím Petrem Vlčkem\, autorem jedinečného systému reflexní terapie duše. Dozvíte se více o možnostech reflexní terapie\, inspirativních zážitcích z cest i o osobních zkušenostech přednášejícího. Vstupné: 50 Kč (na místě). Všichni zájemci jsou srdečně zváni.
URL:https://hrabovak.cz/event/beseda-reflexni-terapie/
LOCATION:Kulturní dům Hrabová\, Bažanova 174/4\, Ostrava-Hrabová\, 72000\, Česká republika
CATEGORIES:Beseda / přednáška / workshop,Kulturní dům
ATTACH;FMTTYPE=image/png:https://hrabovak.cz/wp-content/uploads/2026/03/Reflexni-terapie_7.4.2026.png
END:VEVENT
BEGIN:VEVENT
DTSTART;TZID=Europe/Prague:20260317T163000
DTEND;TZID=Europe/Prague:20260317T180000
DTSTAMP:20260422T194818
CREATED:20260218T161202Z
LAST-MODIFIED:20260218T161219Z
UID:1379-1773765000-1773770400@hrabovak.cz
SUMMARY:Beseda v knihovně: spisovatelka Eva Tvrdá
DESCRIPTION:Setkejte se s Evou Tvrdou a objevte příběhy nově vydané Slezské tetralogie. Slezská tetralogie (2025) – strhující pohled do života lidí v české části Slezska během 20. století fascinuje mixem historie\, mystiky a rodinných tabu. Knižní série vznikala v letech 2000–2021: Dědictví (2005)\, Třešňovou alejí (2007)\, Okna do pokoje (2010)\, Pandořina skříňka (2021). \n 
URL:https://hrabovak.cz/event/beseda-v-knihovne/
LOCATION:Knihovna města Ostravy\, pobočka Hrabová\, Paskovská 664\, Ostrava\, 72000
CATEGORIES:Beseda / přednáška / workshop,Knihovna
ATTACH;FMTTYPE=image/jpeg:https://hrabovak.cz/wp-content/uploads/2026/02/Plakat_A4_Hrabova_BesedaEvaTvrda_3_26_web.jpg
END:VEVENT
BEGIN:VEVENT
DTSTART;TZID=Europe/Prague:20260302T000000
DTEND;TZID=Europe/Prague:20260331T000000
DTSTAMP:20260422T194818
CREATED:20260309T110601Z
LAST-MODIFIED:20260309T110601Z
UID:1408-1772409600-1774915200@hrabovak.cz
SUMMARY:Knihovna: Modelujeme jaro
DESCRIPTION:Přijďte si do knihovny užít příjemné jarní tvoření. Vytvoříme originální jarní dekoraci ze samotvrdnoucí modelovací hmoty. Odpočinkové tvoření pro všechny věkové kategorie. Materiál zajistíme a domů si za 20 korun odnesete vlastní jarní ozdobu\, která rozzáří váš domov. Tvoříme během půjčovní doby. 
URL:https://hrabovak.cz/event/knihovna-modelujeme-jaro/
LOCATION:Knihovna města Ostravy\, pobočka Hrabová\, Paskovská 664\, Ostrava\, 72000
CATEGORIES:Beseda / přednáška / workshop,Knihovna
ATTACH;FMTTYPE=image/jpeg:https://hrabovak.cz/wp-content/uploads/2026/03/Plakat_A4_Hrabova_ModelujemeJaro_3_26_web.jpg
END:VEVENT
BEGIN:VEVENT
DTSTART;TZID=Europe/Prague:20260217T160000
DTEND;TZID=Europe/Prague:20260217T170000
DTSTAMP:20260422T194818
CREATED:20260204T194131Z
LAST-MODIFIED:20260204T194131Z
UID:1341-1771344000-1771347600@hrabovak.cz
SUMMARY:Beseda o paliativní péči
DESCRIPTION:Městský obvod Hrabová Vás ve spolupráci s Kulturní komisí srdečně zve na besedu o paliativní péči\, která se uskuteční v úterý 17. února 2026 od 16:00 hodin v Kulturním domě Hrabová (Bažanova 174/4\, Ostrava). Beseda nabídne srozumitelné a otevřené informace o tom\, co paliativní péče skutečně znamená – jak ulevuje od bolesti\, jak pomáhá pacientům i jejich rodinám a jakou podporu mohou pečující v náročných životních situacích získat. Prostor bude také pro Vaše dotazy a sdílení. \nNa Vaše otázky budou odpovídat:MUDr. Daša Hanzelyová\, paliatr\, spolu s odborným týmem Nemocnice AGEL Ostrava-Vítkovice a.s.\, a MUDr. Aleš Menšík\, praktický lékař\, Medehan s.r.o. \nTuto besedu jsme se rozhodli uskutečnit také na přání Mirka Houžvičky\, dlouholetého člena Kulturní komise\, který nás před Vánoci opustil. Mirkovi velmi záleželo na tom\, aby v této oblasti vznikala větší osvěta a aby se mezi lidi dostala zpráva\, že paliativní péče není jen o umírání. Přál si\, aby se lidé tohoto tématu nebáli a aby věděli\, že odcházení patří k životu\, a že jej lze prožít smířlivěji\, kvalitněji a v blízkosti rodiny\, s odbornou podporou a respektem k lidské důstojnosti. Jsme rádi\, že jsme jeho přání mohli naplnit a tuto besedu společně s našimi hosty připravit. Věříme\, že Vám dodá naději\, že na péči o své blízké nemusíte být sami. \nTěšíme se na setkání s Vámi.
URL:https://hrabovak.cz/event/beseda-o-paliativni-peci/
LOCATION:Kulturní dům Hrabová\, Bažanova 174/4\, Ostrava-Hrabová\, 72000\, Česká republika
CATEGORIES:Beseda / přednáška / workshop,Kulturní dům
ATTACH;FMTTYPE=image/png:https://hrabovak.cz/wp-content/uploads/2026/02/Beseda-o-paliativni-peci_17.02.2026.png
END:VEVENT
BEGIN:VEVENT
DTSTART;TZID=Europe/Prague:20260203T170000
DTEND;TZID=Europe/Prague:20260203T190000
DTSTAMP:20260422T194818
CREATED:20251211T144157Z
LAST-MODIFIED:20251211T144157Z
UID:1270-1770138000-1770145200@hrabovak.cz
SUMMARY:Přednáška s MUDr. Marka Dvořáka
DESCRIPTION:Městský obvod Hrabová a kulturní komise zvou občany na přednášku jednoho z nejznámějších popularizátorů první pomoci v České republice – MUDr. Marka Dvořáka\, lékaře letecké záchranné služby a urgentní medicíny. Jeho přednášky jsou známé pro svou srozumitelnost\, praktičnost a energii\, díky níž si účastníci odnášejí jasné a použitelné informace pro situace\, kdy jde o minuty. Přednáška se uskuteční v úterý 3. února 2026 od 17:00 hodin v Kulturním domě Hrabová. Návštěvníci se dozvědí\, jak správně poskytnout první pomoc\, jak rozpoznat stav ohrožující život\, kdy a jak zahájit resuscitaci\, jak postupovat při dušení či jak efektivně zastavit krvácení. Prostor bude také věnován dotazům z publika. Vstupenky bude možné zakoupit na místě pouze v případě\, že nebude vyprodán předprodej. Hotově lze vstupenky zakoupit také na radnici v úředních dnech od 8:00 do 17:00. \nKoupit vstupenky
URL:https://hrabovak.cz/event/prednaska-s-mudr-marka-dvoraka/
LOCATION:Kulturní dům Hrabová\, Bažanova 174/4\, Ostrava-Hrabová\, 72000\, Česká republika
CATEGORIES:Beseda / přednáška / workshop
ATTACH;FMTTYPE=image/png:https://hrabovak.cz/wp-content/uploads/2025/12/PRVNI-POMOC-ZAKLADY-ZACHRANY-ZIVOTA_03.02.2026.png
END:VEVENT
BEGIN:VEVENT
DTSTART;TZID=Europe/Prague:20251209T170000
DTEND;TZID=Europe/Prague:20251209T193000
DTSTAMP:20260422T194818
CREATED:20251027T190345Z
LAST-MODIFIED:20251027T190345Z
UID:1219-1765299600-1765308600@hrabovak.cz
SUMMARY:Adventní jóga & Aromaterapie
DESCRIPTION:Městský obvod Hrabová vás srdečně zve na Adventní jógu & Aromaterapii\, která se uskuteční v úterý 9. prosince 2025 od 17:00 v Kulturním domě Hrabová. Čeká vás podvečer plný klidu\, vůní a vánoční atmosféry – jemné jógové pozice uvolňující emoce\, vedená relaxace\, drobné občerstvení s rituálním kakaem a tvoření vlastního roll-onu z kvalitních esenciálních olejů. Cena za účast je 350 Kč. Rezervace online nebo u Lucie Beranové\, tel.: 724 103 762\, lucie.beranova@ostrava-hrabova.cz.  \nRegistrace na akci
URL:https://hrabovak.cz/event/adventni-joga-aromaterapie/
LOCATION:Kulturní dům Hrabová\, Bažanova 174/4\, Ostrava-Hrabová\, 72000\, Česká republika
CATEGORIES:Beseda / přednáška / workshop,Kulturní dům,Sport
ATTACH;FMTTYPE=image/png:https://hrabovak.cz/wp-content/uploads/2025/10/joga-aromaterapie-9.12.2025.png
END:VEVENT
BEGIN:VEVENT
DTSTART;TZID=Europe/Prague:20251209T163000
DTEND;TZID=Europe/Prague:20251209T180000
DTSTAMP:20260422T194818
CREATED:20251205T101250Z
LAST-MODIFIED:20251205T101250Z
UID:1254-1765297800-1765303200@hrabovak.cz
SUMMARY:Beseda v knihovně: Chronotopia. Zrod moderní turistiky
DESCRIPTION:Chronotopia. Zrod moderního turisty \nKnihovna města Ostravy\, pobočka Hrabová\, Vás zve na moderovanou besedu se spisovatelem Janem Pezdou\, který se věnuje dějinám turismu\, a představí svou knihu Slunce\, voda\, vzduch: Zrod moderního turismu.\nV devatenáctém století se rodí zcela nový typ cestovatele. Moderní turisté prahnou spatřit děsivou vznešenost hor\, zažít středověk uvnitř tajuplných hradních ruin nebo nasát kosmopolitní atmosféru a technologickou vyspělost velkých měst. Debata vás zavede do doby\, kdy New York byl městem budoucnosti\, velehory zaplavili alpinisté a na pobřeží se objevily první lázeňské promenády\, koupací vozy i móda opalování. Prostřednictvím cestovních deníků\, starých pohlednic i atraktivních historických fotografií vystopujeme kořeny moderní dovolené. \n 
URL:https://hrabovak.cz/event/beseda-v-knihovne-chronotopia-zrod-moderni-turistiky/
LOCATION:Knihovna města Ostravy\, pobočka Hrabová\, Paskovská 664\, Ostrava\, 72000
CATEGORIES:Beseda / přednáška / workshop,Knihovna
ATTACH;FMTTYPE=image/jpeg:https://hrabovak.cz/wp-content/uploads/2025/12/Plakat_A4_Hrabova_besedaChronotopia_12_25_web.jpg
END:VEVENT
BEGIN:VEVENT
DTSTART;TZID=Europe/Prague:20251202T170000
DTEND;TZID=Europe/Prague:20251202T183000
DTSTAMP:20260422T194818
CREATED:20251110T082042Z
LAST-MODIFIED:20251110T082042Z
UID:1224-1764694800-1764700200@hrabovak.cz
SUMMARY:TVOŘENÍ VÁNOČNÍCH OZDOB S VĚRKOU KROČKOVOU
DESCRIPTION:Zveme všechny milovníky ručních prací\, tvoření a vánoční atmosféry na tradiční Tvoření vánočních ozdob s Věrkou Kročkovou\, které se uskuteční v úterý 2. prosince 2025 od 17 hodin v zasedací místnosti Kulturního domu Hrabová (příchod z budovy úřadu). Budete si moci vytvořit originální vánoční dekorace\, věnce či svícny\, které ozdobí váš domov a navodí sváteční náladu. Zájemce prosíme\, aby si s sebou přinesli nůžky\, nůž\, kleště a také vlastní materiál k ozdobení – například větvičky\, svícny nebo věnce. Pokud máte\, můžete si přinést i tavnou pistoli\, ale není nutná. Dekorace a přízdoby bude možné také zakoupit přímo na místě. \nRegistrace není nutná. Vstupné činí 50 Kč\, platí se na místě v den konání akce.
URL:https://hrabovak.cz/event/tvoreni-vanocnich-ozdob-s-verkou-krockovou/
LOCATION:Kulturní dům Hrabová\, Bažanova 174/4\, Ostrava-Hrabová\, 72000\, Česká republika
CATEGORIES:Beseda / přednáška / workshop,Kulturní dům,Senioři
ATTACH;FMTTYPE=image/png:https://hrabovak.cz/wp-content/uploads/2025/11/Tvoreni-vanocnich-ozdob.png
END:VEVENT
BEGIN:VEVENT
DTSTART;TZID=Europe/Prague:20251111T163000
DTEND;TZID=Europe/Prague:20251111T180000
DTSTAMP:20260422T194818
CREATED:20251027T183559Z
LAST-MODIFIED:20251027T183559Z
UID:1215-1762878600-1762884000@hrabovak.cz
SUMMARY:Knihovna: Tibet v srdci Indie
DESCRIPTION:Hrabovská pobočka Knihovny města Ostravy zve na cestopisnou besedu\, která se uskuteční v úterý 11. listopadu 2025 od 16.30 do 18.00 hodin. Šárka Hermanová se podělí o zážitky z dubnové cesty po tibetských komunitách v Indii\, kam se díky organizaci Most pro Tibet vydala se svým synem. Navštívila kláštery\, školy\, parlament exilové vlády i samotného dalajlámu. Přijďte nahlédnout do jedinečné kultury Tibetu prostřednictvím vyprávění\, fotografií a videí.
URL:https://hrabovak.cz/event/knihovna-tibet-v-srdci-indie/
LOCATION:Knihovna města Ostravy\, pobočka Hrabová\, Paskovská 664\, Ostrava\, 72000
CATEGORIES:Beseda / přednáška / workshop,Knihovna
ATTACH;FMTTYPE=image/jpeg:https://hrabovak.cz/wp-content/uploads/2025/10/Plakat_A4_Hrabova_TibetVsrdciIndie_11_25_web.jpg
END:VEVENT
BEGIN:VEVENT
DTSTART;TZID=Europe/Prague:20251103T170000
DTEND;TZID=Europe/Prague:20251103T190000
DTSTAMP:20260422T194818
CREATED:20251023T111750Z
LAST-MODIFIED:20251023T111750Z
UID:1198-1762189200-1762196400@hrabovak.cz
SUMMARY:Beseda o Bali + Vernisáž
DESCRIPTION:Městský obvod Hrabová zve všechny milovníky cestování\, přírody a umění na jedinečný večer\, který propojí exotiku ostrova Bali s tvorbou místní výtvarnice. V pondělí 3. listopadu 2025 od 17:00 hodin se v Kulturním domě Hrabová uskuteční přednáška dr. Lumíra Kuchaře s názvem „Bali – nejen překrásná turistická destinace“. Návštěvníci se mohou těšit na poutavé vyprávění o ostrově Bali\, jeho přírodě\, kultuře i inspiraci pro umění a dekorace z přírodních materiálů\, které dr. Kuchař představí. Na přednášku naváže vernisáž obrazů hrabovské výtvarnice Zuzany Paulusové\, která představí svou novou kolekci abstraktních maleb inspirovanou přírodou\, vodou a zemí. Po vernisáži bude prostor pro neformální setkání s autorkou a diskuzi o její tvorbě. Během večera budou k vidění také ukázky dekorací z přírodních kamenů a zkamenělého dřeva. Vstupné je dobrovolné.
URL:https://hrabovak.cz/event/beseda-o-bali-vernisaz/
LOCATION:Kulturní dům Hrabová\, Bažanova 174/4\, Ostrava-Hrabová\, 72000\, Česká republika
CATEGORIES:Beseda / přednáška / workshop,Kulturní dům,Vernisáž
ATTACH;FMTTYPE=image/png:https://hrabovak.cz/wp-content/uploads/2025/10/kolaz_bali_vernisaz_horizontal_3.11.2025-scaled.png
END:VEVENT
END:VCALENDAR