BEGIN:VCALENDAR
VERSION:2.0
PRODID:-//Hrabovak - ECPv6.15.20//NONSGML v1.0//EN
CALSCALE:GREGORIAN
METHOD:PUBLISH
X-ORIGINAL-URL:https://hrabovak.cz
X-WR-CALDESC:Akce na Hrabovak
REFRESH-INTERVAL;VALUE=DURATION:PT1H
X-Robots-Tag:noindex
X-PUBLISHED-TTL:PT1H
BEGIN:VTIMEZONE
TZID:Europe/Prague
BEGIN:DAYLIGHT
TZOFFSETFROM:+0100
TZOFFSETTO:+0200
TZNAME:CEST
DTSTART:20240331T010000
END:DAYLIGHT
BEGIN:STANDARD
TZOFFSETFROM:+0200
TZOFFSETTO:+0100
TZNAME:CET
DTSTART:20241027T010000
END:STANDARD
BEGIN:DAYLIGHT
TZOFFSETFROM:+0100
TZOFFSETTO:+0200
TZNAME:CEST
DTSTART:20250330T010000
END:DAYLIGHT
BEGIN:STANDARD
TZOFFSETFROM:+0200
TZOFFSETTO:+0100
TZNAME:CET
DTSTART:20251026T010000
END:STANDARD
BEGIN:DAYLIGHT
TZOFFSETFROM:+0100
TZOFFSETTO:+0200
TZNAME:CEST
DTSTART:20260329T010000
END:DAYLIGHT
BEGIN:STANDARD
TZOFFSETFROM:+0200
TZOFFSETTO:+0100
TZNAME:CET
DTSTART:20261025T010000
END:STANDARD
END:VTIMEZONE
BEGIN:VEVENT
DTSTART;TZID=Europe/Prague:20250110T200000
DTEND;TZID=Europe/Prague:20250111T020000
DTSTAMP:20260419T210141
CREATED:20241113T183631Z
LAST-MODIFIED:20250205T080300Z
UID:694-1736539200-1736560800@hrabovak.cz
SUMMARY:Ples městského obvodu Hrabová
DESCRIPTION:Milí příznivci plesové zábavy\,\ndovolte\, abychom Vás pozvali na ples městského obvodu Hrabová\, který se uskuteční v pátek 10. ledna 2025 od 20:00 hodin v Kulturním domě Hrabová.\nK tanci a poslechu zahraje kapela Kvatro\, která je např. oficiální doprovodnou kapelou Michala Davida. V úvodu vás čeká vystoupení – dogdancing\, kromě tohoto vystoupení se můžete těšit na kouzelnickou show plnou magie\, která se objeví během plesu ve dvou vstupech. O půlnoci proběhne tradiční tombola.\nVstupenky v ceně 350 Kč budou od 15. listopadu 2024 k dispozici v prodeji na rezervace.ostrava-hrabova.cz nebo osobně s platbou v hotovosti ve dnech pondělí a středa od 9 do 16 hodin na Úřadu městského obvodu Hrabová.\nTěšíme se\, že společně s námi otevřete plesovou sezonu roku 2025!\n\nKontaktní osoba: Lucie Beranová\, e-mail: lucie.beranova@ostrava-hrabova.cz\, tel. č. 725 996 468\, 2. patro
URL:https://hrabovak.cz/event/ples-mestskeho-obvodu-hrabova/
LOCATION:Kulturní dům Hrabová\, Bažanova 174/4\, Ostrava-Hrabová\, 72000\, Česká republika
CATEGORIES:Ples
ATTACH;FMTTYPE=image/png:https://hrabovak.cz/wp-content/uploads/2024/11/Ples-2025.png
END:VEVENT
END:VCALENDAR